BEGIN:VCALENDAR
VERSION:2.0
PRODID:-//jEvents 2.0 for Joomla//EN
CALSCALE:GREGORIAN
METHOD:PUBLISH
BEGIN:VEVENT
UID:dc2c9355afefd55c2b90accfb96491d3
CATEGORIES:Outreach
SUMMARY:Day Laborer Outreach
LOCATION:Day Laborer Corner\nJeronimo Rd & Orange Ave\nLake Forest\nCA\n92691\nUSA\n
 949-656-2882\nhttp://gracespringsoc.org
DESCRIPTION;ENCODING=QUOTED-PRINTABLE:<p><strong>We visit the day laborers in Lake Forest, near the corner of Jer
 onimo & Orange (behind J's Liquor), the second Saturday of each month, to p
 rovide them with some daily essentials (e.g. food, clothing, etc). We also 
 share the Gospel message with those who are interested. We meet at the Foot
 hill Ranch Food Court at 9:45, then caravan over together.</strong></p>
DTSTAMP:20260420T053944Z
DTSTART:20190608T100000Z
DTEND:20190608T113000Z
SEQUENCE:0
RRULE:FREQ=MONTHLY;COUNT=99;INTERVAL=1;BYDAY=+2SA
TRANSP:OPAQUE
END:VEVENT
END:VCALENDAR